BEGIN:VCALENDAR
VERSION:2.0
PRODID:-//Contratero//ES
CALSCALE:GREGORIAN
METHOD:PUBLISH
BEGIN:VEVENT
UID:NGCT/1/25@contratero.es
DTSTAMP:20260422T044615Z
DTSTART:20250606T235959
DTEND:20250607T005959
SUMMARY:Cierre: Diseño\, desarrollo e implantación de un aplicativo
DESCRIPTION:Diseño\, desarrollo e implantación de un aplicativo de digitalización para la gestión del agua a nivel autonómico de la Comunidad Autónoma de Canarias y los Consejos Insulares de Aguas para unificar gr...\\n\\nOrganismo: Consejería de Política Territorial\, Cohesión Territorial y Aguas de Canarias\\n\\nVer en Contratero: https://contratero.es/contracts/NGCT/1/25
URL:https://contratero.es/contracts/NGCT/1/25
STATUS:CONFIRMED
BEGIN:VALARM
TRIGGER:-P1D
ACTION:DISPLAY
DESCRIPTION:Recordatorio: Diseño\, desarrollo e implantac
END:VALARM
END:VEVENT
END:VCALENDAR