BEGIN:VCALENDAR
VERSION:2.0
PRODID:-//Contratero//ES
CALSCALE:GREGORIAN
METHOD:PUBLISH
BEGIN:VEVENT
UID:NSU/2018/083@contratero.es
DTSTAMP:20260425T111456Z
DTSTART:20180925T235959
DTEND:20180926T005959
SUMMARY:Cierre: Adquisición de licencias de ORACLE
DESCRIPTION:Adquisición de licencias de ORACLE\\n\\nOrganismo: Junta de Contratación del Ministerio de Justicia\\n\\nVer en Contratero: https://contratero.es/contracts/NSU/2018/083
URL:https://contratero.es/contracts/NSU/2018/083
STATUS:CONFIRMED
BEGIN:VALARM
TRIGGER:-P1D
ACTION:DISPLAY
DESCRIPTION:Recordatorio: Adquisición de licencias de OR
END:VALARM
END:VEVENT
END:VCALENDAR