BEGIN:VCALENDAR
VERSION:2.0
PRODID:-//Contratero//ES
CALSCALE:GREGORIAN
METHOD:PUBLISH
BEGIN:VEVENT
UID:NSU/2018/117@contratero.es
DTSTAMP:20260424T231756Z
DTSTART:20181130T235959
DTEND:20181201T005959
SUMMARY:Cierre: Implantación de una solución de virtualización de 
DESCRIPTION:Implantación de una solución de virtualización de aplicaciones de la Subdirección General de Nuevas Tecnologías de la Justicia\\n\\nOrganismo: Junta de Contratación del Ministerio de Justicia\\n\\nVer en Contratero: https://contratero.es/contracts/NSU/2018/117
URL:https://contratero.es/contracts/NSU/2018/117
STATUS:CONFIRMED
BEGIN:VALARM
TRIGGER:-P1D
ACTION:DISPLAY
DESCRIPTION:Recordatorio: Implantación de una solución d
END:VALARM
END:VEVENT
END:VCALENDAR