BEGIN:VCALENDAR
VERSION:2.0
PRODID:-//Contratero//ES
CALSCALE:GREGORIAN
METHOD:PUBLISH
BEGIN:VEVENT
UID:NSU/2025/053@contratero.es
DTSTAMP:20260421T040122Z
DTSTART:20250901T235959
DTEND:20250902T005959
SUMMARY:Cierre: Actualización de licencias\, soporte tecnológico y 
DESCRIPTION:Actualización de licencias\, soporte tecnológico y mantenimiento de los productos Oracle\, en el ámbito de la Dirección General de Transformación Digital de la Administración de Justicia\\n\\nOrganismo: Secretaría de Estado de Justicia\\n\\nVer en Contratero: https://contratero.es/contracts/NSU/2025/053
URL:https://contratero.es/contracts/NSU/2025/053
STATUS:CONFIRMED
BEGIN:VALARM
TRIGGER:-P1D
ACTION:DISPLAY
DESCRIPTION:Recordatorio: Actualización de licencias\, so
END:VALARM
END:VEVENT
END:VCALENDAR