BEGIN:VCALENDAR
VERSION:2.0
PRODID:-//Contratero//ES
CALSCALE:GREGORIAN
METHOD:PUBLISH
BEGIN:VEVENT
UID:OB201919@contratero.es
DTSTAMP:20260423T182302Z
DTSTART:20200121T235959
DTEND:20200122T005959
SUMMARY:Cierre: Servicios de asistencia técnica para el mantenimie
DESCRIPTION:Servicios de asistencia técnica para el mantenimiento y mejora de los sistemas actuales del CTM y para abordar las tareas de nuevos desarrollos tecnológicos.\\n\\nOrganismo: Consorcio de Transportes de Mallorca\\n\\nVer en Contratero: https://contratero.es/contracts/OB201919
URL:https://contratero.es/contracts/OB201919
STATUS:CONFIRMED
BEGIN:VALARM
TRIGGER:-P1D
ACTION:DISPLAY
DESCRIPTION:Recordatorio: Servicios de asistencia técnic
END:VALARM
END:VEVENT
END:VCALENDAR