BEGIN:VCALENDAR
VERSION:2.0
PRODID:-//Contratero//ES
CALSCALE:GREGORIAN
METHOD:PUBLISH
BEGIN:VEVENT
UID:OB202011@contratero.es
DTSTAMP:20260425T111204Z
DTSTART:20200515T235959
DTEND:20200516T005959
SUMMARY:Cierre: Servicios de coubicación para sistemas críticos de
DESCRIPTION:Servicios de coubicación para sistemas críticos del CTM\\n\\nOrganismo: Consorcio de Transportes de Mallorca\\n\\nVer en Contratero: https://contratero.es/contracts/OB202011
URL:https://contratero.es/contracts/OB202011
STATUS:CONFIRMED
BEGIN:VALARM
TRIGGER:-P1D
ACTION:DISPLAY
DESCRIPTION:Recordatorio: Servicios de coubicación para 
END:VALARM
END:VEVENT
END:VCALENDAR