BEGIN:VCALENDAR
VERSION:2.0
PRODID:-//Contratero//ES
CALSCALE:GREGORIAN
METHOD:PUBLISH
BEGIN:VEVENT
UID:OB202015@contratero.es
DTSTAMP:20260420T140148Z
DTSTART:20200622T235959
DTEND:20200623T005959
SUMMARY:Cierre: Diseño y creación del nuevo portal web del CTM
DESCRIPTION:Diseño y creación del nuevo portal web del CTM\\n\\nOrganismo: Consorcio de Transportes de Mallorca\\n\\nVer en Contratero: https://contratero.es/contracts/OB202015
URL:https://contratero.es/contracts/OB202015
STATUS:CONFIRMED
BEGIN:VALARM
TRIGGER:-P1D
ACTION:DISPLAY
DESCRIPTION:Recordatorio: Diseño y creación del nuevo po
END:VALARM
END:VEVENT
END:VCALENDAR