BEGIN:VCALENDAR
VERSION:2.0
PRODID:-//Contratero//ES
CALSCALE:GREGORIAN
METHOD:PUBLISH
BEGIN:VEVENT
UID:OC-7724/22@contratero.es
DTSTAMP:20260423T093251Z
DTSTART:20230117T235959
DTEND:20230118T005959
SUMMARY:Cierre: Servicio mantenimiento de la plataforma de adminis
DESCRIPTION:Servicio mantenimiento de la plataforma de administración electrónica\\n\\nOrganismo: Junta de Gobierno del Ayuntamiento de Alzira\\n\\nVer en Contratero: https://contratero.es/contracts/OC-7724/22
URL:https://contratero.es/contracts/OC-7724/22
STATUS:CONFIRMED
BEGIN:VALARM
TRIGGER:-P1D
ACTION:DISPLAY
DESCRIPTION:Recordatorio: Servicio mantenimiento de la p
END:VALARM
END:VEVENT
END:VCALENDAR