BEGIN:VCALENDAR
VERSION:2.0
PRODID:-//Contratero//ES
CALSCALE:GREGORIAN
METHOD:PUBLISH
BEGIN:VEVENT
UID:OCA21(IC)/CC-05@contratero.es
DTSTAMP:20260423T150634Z
DTSTART:20220105T235959
DTEND:20220106T005959
SUMMARY:Cierre: Acuerdo Marco para la prestación de Software como 
DESCRIPTION:Acuerdo Marco para la prestación de Software como servicio y el suministro\, o suscripción temporal\, de licencia de uso y/o soporte técnico de software\\n\\nOrganismo: Consejo de Gobierno Insular del Cabildo Insular de Tenerife\\n\\nVer en Contratero: https://contratero.es/contracts/OCA21(IC)/CC-05
URL:https://contratero.es/contracts/OCA21(IC)/CC-05
STATUS:CONFIRMED
BEGIN:VALARM
TRIGGER:-P1D
ACTION:DISPLAY
DESCRIPTION:Recordatorio: Acuerdo Marco para la prestaci
END:VALARM
END:VEVENT
END:VCALENDAR