BEGIN:VCALENDAR
VERSION:2.0
PRODID:-//Contratero//ES
CALSCALE:GREGORIAN
METHOD:PUBLISH
BEGIN:VEVENT
UID:ORD/0118/TG@contratero.es
DTSTAMP:20260422T232634Z
DTSTART:20230410T235959
DTEND:20230411T005959
SUMMARY:Cierre: Prestación del Servicio de “mantenimiento de págin
DESCRIPTION:Prestación del Servicio de “mantenimiento de páginas web y renovaciones y contrataciones de dominios de Internet”.\\n\\nOrganismo: Presidencia de la Autoridad Portuaria de Huelva\\n\\nVer en Contratero: https://contratero.es/contracts/ORD/0118/TG
URL:https://contratero.es/contracts/ORD/0118/TG
STATUS:CONFIRMED
BEGIN:VALARM
TRIGGER:-P1D
ACTION:DISPLAY
DESCRIPTION:Recordatorio: Prestación del Servicio de “ma
END:VALARM
END:VEVENT
END:VCALENDAR