BEGIN:VCALENDAR
VERSION:2.0
PRODID:-//Contratero//ES
CALSCALE:GREGORIAN
METHOD:PUBLISH
BEGIN:VEVENT
UID:ORD/0211/TG@contratero.es
DTSTAMP:20260421T072057Z
DTSTART:20250730T235959
DTEND:20250731T005959
SUMMARY:Cierre: Suministro e instalación de una solución hiperconv
DESCRIPTION:Suministro e instalación de una solución hiperconvergente para la mejora de la Plataforma Digital del Puerto de Huelva. “Plan de Recuperación\, Transformación y Resiliencia - Financiado por la Unión Eu...\\n\\nOrganismo: Presidencia de la Autoridad Portuaria de Huelva\\n\\nVer en Contratero: https://contratero.es/contracts/ORD/0211/TG
URL:https://contratero.es/contracts/ORD/0211/TG
STATUS:CONFIRMED
BEGIN:VALARM
TRIGGER:-P1D
ACTION:DISPLAY
DESCRIPTION:Recordatorio: Suministro e instalación de un
END:VALARM
END:VEVENT
END:VCALENDAR