BEGIN:VCALENDAR
VERSION:2.0
PRODID:-//Contratero//ES
CALSCALE:GREGORIAN
METHOD:PUBLISH
BEGIN:VEVENT
UID:P-1484@contratero.es
DTSTAMP:20260425T205628Z
DTSTART:20191114T235959
DTEND:20191115T005959
SUMMARY:Cierre: Servicio para la adecuación al esquema nacional de
DESCRIPTION:Servicio para la adecuación al esquema nacional de seguridad\, reglamento general de protección de datos\, LOPDGDD y auditoría de seguridad informática en la Autoridad Portuaria de Ferrol - San Cibrao\\n\\nOrganismo: Presidencia de la Autoridad Portuaria de Ferrol San Cibrao\\n\\nVer en Contratero: https://contratero.es/contracts/P-1484
URL:https://contratero.es/contracts/P-1484
STATUS:CONFIRMED
BEGIN:VALARM
TRIGGER:-P1D
ACTION:DISPLAY
DESCRIPTION:Recordatorio: Servicio para la adecuación al
END:VALARM
END:VEVENT
END:VCALENDAR