BEGIN:VCALENDAR
VERSION:2.0
PRODID:-//Contratero//ES
CALSCALE:GREGORIAN
METHOD:PUBLISH
BEGIN:VEVENT
UID:P-16-107@contratero.es
DTSTAMP:20260423T113519Z
DTSTART:20170617T235959
DTEND:20170618T005959
SUMMARY:Cierre: Servicio de apoyo técnico y de gestión de los sist
DESCRIPTION:Servicio de apoyo técnico y de gestión de los sistemas y comunicaciones de la SGSICS\\n\\nOrganismo: Subdirección General de Gestión Económica y Patrimonial\\n\\nVer en Contratero: https://contratero.es/contracts/P-16-107
URL:https://contratero.es/contracts/P-16-107
STATUS:CONFIRMED
BEGIN:VALARM
TRIGGER:-P1D
ACTION:DISPLAY
DESCRIPTION:Recordatorio: Servicio de apoyo técnico y de
END:VALARM
END:VEVENT
END:VCALENDAR