BEGIN:VCALENDAR
VERSION:2.0
PRODID:-//Contratero//ES
CALSCALE:GREGORIAN
METHOD:PUBLISH
BEGIN:VEVENT
UID:P.O.57.24@contratero.es
DTSTAMP:20260422T130413Z
DTSTART:20241007T235959
DTEND:20241008T005959
SUMMARY:Cierre: Plataforma de Gestión de Servicios Portuarios Técn
DESCRIPTION:Plataforma de Gestión de Servicios Portuarios Técnico-Náuticos para la Autoridad Portuaria de Baleares\\n\\nOrganismo: Presidencia de la Autoridad Portuaria de Baleares\\n\\nVer en Contratero: https://contratero.es/contracts/P.O.57.24
URL:https://contratero.es/contracts/P.O.57.24
STATUS:CONFIRMED
BEGIN:VALARM
TRIGGER:-P1D
ACTION:DISPLAY
DESCRIPTION:Recordatorio: Plataforma de Gestión de Servi
END:VALARM
END:VEVENT
END:VCALENDAR