BEGIN:VCALENDAR
VERSION:2.0
PRODID:-//Contratero//ES
CALSCALE:GREGORIAN
METHOD:PUBLISH
BEGIN:VEVENT
UID:P02.C05.I3.P01.A04.01@contratero.es
DTSTAMP:20260422T130639Z
DTSTART:20230418T235959
DTEND:20230419T005959
SUMMARY:Cierre: Evolución\, adaptación y soporte de la aplicación i
DESCRIPTION:Evolución\, adaptación y soporte de la aplicación informática Registro de Aguas\, en el Marco del Plan de Recuperación\, Transformación y Resiliencia (PRTR)\\n\\nOrganismo: Secretaría de Estado de Medio Ambiente\\n\\nVer en Contratero: https://contratero.es/contracts/P02.C05.I3.P01.A04.01
URL:https://contratero.es/contracts/P02.C05.I3.P01.A04.01
STATUS:CONFIRMED
BEGIN:VALARM
TRIGGER:-P1D
ACTION:DISPLAY
DESCRIPTION:Recordatorio: Evolución\, adaptación y soport
END:VALARM
END:VEVENT
END:VCALENDAR