BEGIN:VCALENDAR
VERSION:2.0
PRODID:-//Contratero//ES
CALSCALE:GREGORIAN
METHOD:PUBLISH
BEGIN:VEVENT
UID:P05/2021@contratero.es
DTSTAMP:20260424T174742Z
DTSTART:20210706T235959
DTEND:20210707T005959
SUMMARY:Cierre: Contratación de los servicios de acceso a internet
DESCRIPTION:Contratación de los servicios de acceso a internet para el proyecto "42 Málaga" en las instalaciones del Polo de Contenidos Digitales.\\n\\nOrganismo: Dirección General del Palacio de Ferias y Congresos de Málaga\\n\\nVer en Contratero: https://contratero.es/contracts/P05/2021
URL:https://contratero.es/contracts/P05/2021
STATUS:CONFIRMED
BEGIN:VALARM
TRIGGER:-P1D
ACTION:DISPLAY
DESCRIPTION:Recordatorio: Contratación de los servicios 
END:VALARM
END:VEVENT
END:VCALENDAR