BEGIN:VCALENDAR
VERSION:2.0
PRODID:-//Contratero//ES
CALSCALE:GREGORIAN
METHOD:PUBLISH
BEGIN:VEVENT
UID:P2505@contratero.es
DTSTAMP:20260423T203437Z
DTSTART:20251104T235959
DTEND:20251105T005959
SUMMARY:Cierre: Servicios de soporte a la explotación y mantenimie
DESCRIPTION:Servicios de soporte a la explotación y mantenimiento evolutivo del Plan de Integración de Información de las Universidades Públicas de Castilla y León (PIIU)\\n\\nOrganismo: Fundación Universidades y Enseñanzas Superiores de Castilla y León\\n\\nVer en Contratero: https://contratero.es/contracts/P2505
URL:https://contratero.es/contracts/P2505
STATUS:CONFIRMED
BEGIN:VALARM
TRIGGER:-P1D
ACTION:DISPLAY
DESCRIPTION:Recordatorio: Servicios de soporte a la expl
END:VALARM
END:VEVENT
END:VCALENDAR