BEGIN:VCALENDAR
VERSION:2.0
PRODID:-//Contratero//ES
CALSCALE:GREGORIAN
METHOD:PUBLISH
BEGIN:VEVENT
UID:P4102900J-2018/000032-PEA@contratero.es
DTSTAMP:20260425T131130Z
DTSTART:20180816T235959
DTEND:20180817T005959
SUMMARY:Cierre: servicios de consultoría y asistencia técnica para
DESCRIPTION:servicios de consultoría y asistencia técnica para la realización de un inventario municipal. es objeto la  contratación de servicios de consultoría y asistencia técnica para la realización del invent...\\n\\nOrganismo: Alcaldía del Ayuntamiento de Castilleja de la Cuesta\\n\\nVer en Contratero: https://contratero.es/contracts/P4102900J-2018/000032-PEA
URL:https://contratero.es/contracts/P4102900J-2018/000032-PEA
STATUS:CONFIRMED
BEGIN:VALARM
TRIGGER:-P1D
ACTION:DISPLAY
DESCRIPTION:Recordatorio: servicios de consultoría y asi
END:VALARM
END:VEVENT
END:VCALENDAR