BEGIN:VCALENDAR
VERSION:2.0
PRODID:-//Contratero//ES
CALSCALE:GREGORIAN
METHOD:PUBLISH
BEGIN:VEVENT
UID:P4102900J-2024/000014-PEA@contratero.es
DTSTAMP:20260420T165222Z
DTSTART:20240226T235959
DTEND:20240227T005959
SUMMARY:Cierre: Servicio de venta online y en taquilla de entradas
DESCRIPTION:Servicio de venta online y en taquilla de entradas en espectáculos\, eventos y actividades de las Delegaciones Municipales del Ayuntamiento de Castilleja de la Cuesta.\\n\\nOrganismo: Alcaldía del Ayuntamiento de Castilleja de la Cuesta\\n\\nVer en Contratero: https://contratero.es/contracts/P4102900J-2024/000014-PEA
URL:https://contratero.es/contracts/P4102900J-2024/000014-PEA
STATUS:CONFIRMED
BEGIN:VALARM
TRIGGER:-P1D
ACTION:DISPLAY
DESCRIPTION:Recordatorio: Servicio de venta online y en 
END:VALARM
END:VEVENT
END:VCALENDAR