BEGIN:VCALENDAR
VERSION:2.0
PRODID:-//Contratero//ES
CALSCALE:GREGORIAN
METHOD:PUBLISH
BEGIN:VEVENT
UID:P9100004B-2020/000066-PIA@contratero.es
DTSTAMP:20260424T192608Z
DTSTART:20201022T235959
DTEND:20201023T005959
SUMMARY:Cierre: Acceso a una base de datos jurídica en línea.
DESCRIPTION:Acceso a una base de datos jurídica en línea.\\n\\nOrganismo: Presidencia del Organismo Provincial de Asistencia Económica y Fiscal (OPAEF)\\n\\nVer en Contratero: https://contratero.es/contracts/P9100004B-2020/000066-PIA
URL:https://contratero.es/contracts/P9100004B-2020/000066-PIA
STATUS:CONFIRMED
BEGIN:VALARM
TRIGGER:-P1D
ACTION:DISPLAY
DESCRIPTION:Recordatorio: Acceso a una base de datos jur
END:VALARM
END:VEVENT
END:VCALENDAR