BEGIN:VCALENDAR
VERSION:2.0
PRODID:-//Contratero//ES
CALSCALE:GREGORIAN
METHOD:PUBLISH
BEGIN:VEVENT
UID:P9100004B-2023/000064-PEN@contratero.es
DTSTAMP:20260424T175248Z
DTSTART:20231211T235959
DTEND:20231212T005959
SUMMARY:Cierre: Servicios de Soporte Técnico a Licencias del Produ
DESCRIPTION:Servicios de Soporte Técnico a Licencias del Producto (Premier Support) y el Soporte Técnico de Personal Especializado (Oracle ACS)\, para los dos próximos años\\n\\nOrganismo: Presidencia del Organismo Provincial de Asistencia Económica y Fiscal (OPAEF)\\n\\nVer en Contratero: https://contratero.es/contracts/P9100004B-2023/000064-PEN
URL:https://contratero.es/contracts/P9100004B-2023/000064-PEN
STATUS:CONFIRMED
BEGIN:VALARM
TRIGGER:-P1D
ACTION:DISPLAY
DESCRIPTION:Recordatorio: Servicios de Soporte Técnico a
END:VALARM
END:VEVENT
END:VCALENDAR