BEGIN:VCALENDAR
VERSION:2.0
PRODID:-//Contratero//ES
CALSCALE:GREGORIAN
METHOD:PUBLISH
BEGIN:VEVENT
UID:P9100004B-2024/000016-PEN@contratero.es
DTSTAMP:20260421T130409Z
DTSTART:20240614T235959
DTEND:20240615T005959
SUMMARY:Cierre: soporte técnico  y  mantenimiento de los  producto
DESCRIPTION:soporte técnico  y  mantenimiento de los  productos editran\, para los dos próximos años\\n\\nOrganismo: Gerencia del Organismo Provincial de Asistencia Económica y Fiscal (OPAEF)\\n\\nVer en Contratero: https://contratero.es/contracts/P9100004B-2024/000016-PEN
URL:https://contratero.es/contracts/P9100004B-2024/000016-PEN
STATUS:CONFIRMED
BEGIN:VALARM
TRIGGER:-P1D
ACTION:DISPLAY
DESCRIPTION:Recordatorio: soporte técnico  y  mantenimie
END:VALARM
END:VEVENT
END:VCALENDAR