BEGIN:VCALENDAR
VERSION:2.0
PRODID:-//Contratero//ES
CALSCALE:GREGORIAN
METHOD:PUBLISH
BEGIN:VEVENT
UID:PA-SS-LIC/2024/000003@contratero.es
DTSTAMP:20260424T162432Z
DTSTART:20240205T235959
DTEND:20240206T005959
SUMMARY:Cierre: Suministro de una licencia de Microsoft Visio Plan
DESCRIPTION:Suministro de una licencia de Microsoft Visio Plan 2 y una licencia de Power Bi Pro\\n\\nOrganismo: Agencia de Ciencia\, Competitividad Empresarial e Innovación Asturiana\\n\\nVer en Contratero: https://contratero.es/contracts/PA-SS-LIC/2024/000003
URL:https://contratero.es/contracts/PA-SS-LIC/2024/000003
STATUS:CONFIRMED
BEGIN:VALARM
TRIGGER:-P1D
ACTION:DISPLAY
DESCRIPTION:Recordatorio: Suministro de una licencia de 
END:VALARM
END:VEVENT
END:VCALENDAR