BEGIN:VCALENDAR
VERSION:2.0
PRODID:-//Contratero//ES
CALSCALE:GREGORIAN
METHOD:PUBLISH
BEGIN:VEVENT
UID:PA05/2025@contratero.es
DTSTAMP:20260421T192006Z
DTSTART:20250709T235959
DTEND:20250710T005959
SUMMARY:Cierre: Suministro y mantenimiento tecnológico para el seg
DESCRIPTION:Suministro y mantenimiento tecnológico para el seguimiento y lectura del servicio de recogida de residuos de la mercantil Poble Net Serveis Municipals de Neteja i Manteniment\, S.L.\\n\\nOrganismo: Gerencia de Poble Net Serveis Municipals de Neteja i Manteniment S.L.\\n\\nVer en Contratero: https://contratero.es/contracts/PA05/2025
URL:https://contratero.es/contracts/PA05/2025
STATUS:CONFIRMED
BEGIN:VALARM
TRIGGER:-P1D
ACTION:DISPLAY
DESCRIPTION:Recordatorio: Suministro y mantenimiento tec
END:VALARM
END:VEVENT
END:VCALENDAR