BEGIN:VCALENDAR
VERSION:2.0
PRODID:-//Contratero//ES
CALSCALE:GREGORIAN
METHOD:PUBLISH
BEGIN:VEVENT
UID:PA292/21@contratero.es
DTSTAMP:20260423T015611Z
DTSTART:20210727T235959
DTEND:20210728T005959
SUMMARY:Cierre: Servicio Hosting Web-DNS y Mantenimiento Web de GI
DESCRIPTION:Servicio Hosting Web-DNS y Mantenimiento Web de GISPASA\\n\\nOrganismo: Consejo de Administración de Gestión de Infraestructuras Sanitarias del Principado de Asturias\, S.A.U.\\n\\nVer en Contratero: https://contratero.es/contracts/PA292/21
URL:https://contratero.es/contracts/PA292/21
STATUS:CONFIRMED
BEGIN:VALARM
TRIGGER:-P1D
ACTION:DISPLAY
DESCRIPTION:Recordatorio: Servicio Hosting Web-DNS y Man
END:VALARM
END:VEVENT
END:VCALENDAR