BEGIN:VCALENDAR
VERSION:2.0
PRODID:-//Contratero//ES
CALSCALE:GREGORIAN
METHOD:PUBLISH
BEGIN:VEVENT
UID:PA450/25@contratero.es
DTSTAMP:20260420T104318Z
DTSTART:20260206T235959
DTEND:20260207T005959
SUMMARY:Cierre: Servicio de auditorías de renovación y Seguimiento
DESCRIPTION:Servicio de auditorías de renovación y Seguimiento del Sistema de Gestion Integrado (Calidad\, Medioambiente y Seguridad y Salud en el trabajo) de GISPASA\\n\\nOrganismo: Apoderada Solidaria de Gestión de Infraestructuras Sanitarias del Principado de Asturias\, S.A.U.\\n\\nVer en Contratero: https://contratero.es/contracts/PA450/25
URL:https://contratero.es/contracts/PA450/25
STATUS:CONFIRMED
BEGIN:VALARM
TRIGGER:-P1D
ACTION:DISPLAY
DESCRIPTION:Recordatorio: Servicio de auditorías de reno
END:VALARM
END:VEVENT
END:VCALENDAR