BEGIN:VCALENDAR
VERSION:2.0
PRODID:-//Contratero//ES
CALSCALE:GREGORIAN
METHOD:PUBLISH
BEGIN:VEVENT
UID:PAS/003/2025@contratero.es
DTSTAMP:20260419T172405Z
DTSTART:20251111T235959
DTEND:20251112T005959
SUMMARY:Cierre: Renovación de los servicios relacionados con el po
DESCRIPTION:Renovación de los servicios relacionados con el portal web institucional de la Cámara de Cuentas de Castilla-La Mancha\\n\\nOrganismo: Presidencia de la Cámara de Cuentas de Castilla-La Mancha\\n\\nVer en Contratero: https://contratero.es/contracts/PAS/003/2025
URL:https://contratero.es/contracts/PAS/003/2025
STATUS:CONFIRMED
BEGIN:VALARM
TRIGGER:-P1D
ACTION:DISPLAY
DESCRIPTION:Recordatorio: Renovación de los servicios re
END:VALARM
END:VEVENT
END:VCALENDAR