BEGIN:VCALENDAR
VERSION:2.0
PRODID:-//Contratero//ES
CALSCALE:GREGORIAN
METHOD:PUBLISH
BEGIN:VEVENT
UID:PASSER006/2018@contratero.es
DTSTAMP:20260420T041119Z
DTSTART:20180627T235959
DTEND:20180628T005959
SUMMARY:Cierre: Delegado de Protección de Datos
DESCRIPTION:Delegado de Protección de Datos\\n\\nOrganismo: Junta de Gobierno del Ayuntamiento de Miranda de Ebro\\n\\nVer en Contratero: https://contratero.es/contracts/PASSER006/2018
URL:https://contratero.es/contracts/PASSER006/2018
STATUS:CONFIRMED
BEGIN:VALARM
TRIGGER:-P1D
ACTION:DISPLAY
DESCRIPTION:Recordatorio: Delegado de Protección de Dato
END:VALARM
END:VEVENT
END:VCALENDAR