BEGIN:VCALENDAR
VERSION:2.0
PRODID:-//Contratero//ES
CALSCALE:GREGORIAN
METHOD:PUBLISH
BEGIN:VEVENT
UID:PA_NG_SS_22_01@contratero.es
DTSTAMP:20260423T182543Z
DTSTART:20230320T235959
DTEND:20230321T005959
SUMMARY:Cierre: Realización de la contratación de un servicio de a
DESCRIPTION:Realización de la contratación de un servicio de análisis\, diseño\, desarrollo\, implementación e implantación del espacio público Web unificado y del suministro de licencias Liferay como gestor de cont...\\n\\nOrganismo: Dirección de la Agencia Tributaria Canaria\\n\\nVer en Contratero: https://contratero.es/contracts/PA_NG_SS_22_01
URL:https://contratero.es/contracts/PA_NG_SS_22_01
STATUS:CONFIRMED
BEGIN:VALARM
TRIGGER:-P1D
ACTION:DISPLAY
DESCRIPTION:Recordatorio: Realización de la contratación
END:VALARM
END:VEVENT
END:VCALENDAR