BEGIN:VCALENDAR
VERSION:2.0
PRODID:-//Contratero//ES
CALSCALE:GREGORIAN
METHOD:PUBLISH
BEGIN:VEVENT
UID:PCAUII00001-01-SU/2026@contratero.es
DTSTAMP:20260419T233710Z
DTSTART:20260327T235959
DTEND:20260328T005959
SUMMARY:Cierre: Implantación de una plataforma de control intelige
DESCRIPTION:Implantación de una plataforma de control inteligente para el proceso de aireación en EDAR La Hoya y EDARi Curtidos.\\n\\nOrganismo: Dirección Gerente de Aguas de Lorca\, S.A.\\n\\nVer en Contratero: https://contratero.es/contracts/PCAUII00001-01-SU/2026
URL:https://contratero.es/contracts/PCAUII00001-01-SU/2026
STATUS:CONFIRMED
BEGIN:VALARM
TRIGGER:-P1D
ACTION:DISPLAY
DESCRIPTION:Recordatorio: Implantación de una plataforma
END:VALARM
END:VEVENT
END:VCALENDAR