BEGIN:VCALENDAR
VERSION:2.0
PRODID:-//Contratero//ES
CALSCALE:GREGORIAN
METHOD:PUBLISH
BEGIN:VEVENT
UID:PCO.001.2018.00182@contratero.es
DTSTAMP:20260423T231341Z
DTSTART:20180813T235959
DTEND:20180814T005959
SUMMARY:Cierre: servicios de soporte de nivel 2 de GINPIX 7 para 7
DESCRIPTION:servicios de soporte de nivel 2 de GINPIX 7 para 75 Entes Locales de la provincia de A Coruña\\n\\nOrganismo: Presidencia de la Diputación Provincial de A Coruña\\n\\nVer en Contratero: https://contratero.es/contracts/PCO.001.2018.00182
URL:https://contratero.es/contracts/PCO.001.2018.00182
STATUS:CONFIRMED
BEGIN:VALARM
TRIGGER:-P1D
ACTION:DISPLAY
DESCRIPTION:Recordatorio: servicios de soporte de nivel 
END:VALARM
END:VEVENT
END:VCALENDAR