BEGIN:VCALENDAR
VERSION:2.0
PRODID:-//Contratero//ES
CALSCALE:GREGORIAN
METHOD:PUBLISH
BEGIN:VEVENT
UID:PCO001202300273@contratero.es
DTSTAMP:20260422T094756Z
DTSTART:20231002T235959
DTEND:20231003T005959
SUMMARY:Cierre: Mantenimiento y soporte de GINPIX7 para la Diputac
DESCRIPTION:Mantenimiento y soporte de GINPIX7 para la Diputación y las Entidades Locales de la Provincia y la migración a la nube\\n\\nOrganismo: Presidencia de la Diputación Provincial de A Coruña\\n\\nVer en Contratero: https://contratero.es/contracts/PCO001202300273
URL:https://contratero.es/contracts/PCO001202300273
STATUS:CONFIRMED
BEGIN:VALARM
TRIGGER:-P1D
ACTION:DISPLAY
DESCRIPTION:Recordatorio: Mantenimiento y soporte de GIN
END:VALARM
END:VEVENT
END:VCALENDAR