BEGIN:VCALENDAR
VERSION:2.0
PRODID:-//Contratero//ES
CALSCALE:GREGORIAN
METHOD:PUBLISH
BEGIN:VEVENT
UID:PCO001202400385@contratero.es
DTSTAMP:20260421T015220Z
DTSTART:20241016T235959
DTEND:20241017T005959
SUMMARY:Cierre: Servicio de elaboración de un mapa virtual de los 
DESCRIPTION:Servicio de elaboración de un mapa virtual de los recursos patrimoniales del centro histórico de Ferrol\, con especial atención al patrimonio militar  -Financiado con fondos del Plan de Recuperación\, T...\\n\\nOrganismo: Presidencia de la Diputación Provincial de A Coruña\\n\\nVer en Contratero: https://contratero.es/contracts/PCO001202400385
URL:https://contratero.es/contracts/PCO001202400385
STATUS:CONFIRMED
BEGIN:VALARM
TRIGGER:-P1D
ACTION:DISPLAY
DESCRIPTION:Recordatorio: Servicio de elaboración de un 
END:VALARM
END:VEVENT
END:VCALENDAR