BEGIN:VCALENDAR
VERSION:2.0
PRODID:-//Contratero//ES
CALSCALE:GREGORIAN
METHOD:PUBLISH
BEGIN:VEVENT
UID:PE04/2020@contratero.es
DTSTAMP:20260425T193215Z
DTSTART:20201202T235959
DTEND:20201203T005959
SUMMARY:Cierre: Prestación de los servicios consistentes en la con
DESCRIPTION:Prestación de los servicios consistentes en la configuración\, implantación\, puesta en marcha\, mantenimiento y custodia documental de una plataforma integral de administración electrónica en la institu...\\n\\nOrganismo: Presidencia de la Fundación Canaria Orquesta Filarmónica de Gran Canaria\\n\\nVer en Contratero: https://contratero.es/contracts/PE04/2020
URL:https://contratero.es/contracts/PE04/2020
STATUS:CONFIRMED
BEGIN:VALARM
TRIGGER:-P1D
ACTION:DISPLAY
DESCRIPTION:Recordatorio: Prestación de los servicios co
END:VALARM
END:VEVENT
END:VCALENDAR