BEGIN:VCALENDAR
VERSION:2.0
PRODID:-//Contratero//ES
CALSCALE:GREGORIAN
METHOD:PUBLISH
BEGIN:VEVENT
UID:PEA/251/2022@contratero.es
DTSTAMP:20260426T035228Z
DTSTART:20220919T235959
DTEND:20220920T005959
SUMMARY:Cierre: Servicio de Programación de los Sistema de Automat
DESCRIPTION:Servicio de Programación de los Sistema de Automatización y Control de ALJARAFESA\\n\\nOrganismo: Gerencia de la Empresa Mancomunada del Aljarafe\, S.A. (ALJARAFESA)\\n\\nVer en Contratero: https://contratero.es/contracts/PEA/251/2022
URL:https://contratero.es/contracts/PEA/251/2022
STATUS:CONFIRMED
BEGIN:VALARM
TRIGGER:-P1D
ACTION:DISPLAY
DESCRIPTION:Recordatorio: Servicio de Programación de lo
END:VALARM
END:VEVENT
END:VCALENDAR