BEGIN:VCALENDAR
VERSION:2.0
PRODID:-//Contratero//ES
CALSCALE:GREGORIAN
METHOD:PUBLISH
BEGIN:VEVENT
UID:PEA/35/2026@contratero.es
DTSTAMP:20260420T032630Z
DTSTART:20260319T235959
DTEND:20260320T005959
SUMMARY:Cierre: Servicio de mantenimiento del Sistema de Gestión E
DESCRIPTION:Servicio de mantenimiento del Sistema de Gestión ERP para Aljarafesa\\n\\nOrganismo: Gerencia de la Empresa Mancomunada del Aljarafe\, S.A. (ALJARAFESA)\\n\\nVer en Contratero: https://contratero.es/contracts/PEA/35/2026
URL:https://contratero.es/contracts/PEA/35/2026
STATUS:CONFIRMED
BEGIN:VALARM
TRIGGER:-P1D
ACTION:DISPLAY
DESCRIPTION:Recordatorio: Servicio de mantenimiento del 
END:VALARM
END:VEVENT
END:VCALENDAR