BEGIN:VCALENDAR
VERSION:2.0
PRODID:-//Contratero//ES
CALSCALE:GREGORIAN
METHOD:PUBLISH
BEGIN:VEVENT
UID:PEN/21/2025@contratero.es
DTSTAMP:20260422T011701Z
DTSTART:20250227T235959
DTEND:20250228T005959
SUMMARY:Cierre: Servicio de mantenimiento y soporte del sistema de
DESCRIPTION:Servicio de mantenimiento y soporte del sistema de Gestión de Activos y Movilidad (GAM) para la Empresa Mancomunada del Aljarafe\, S.A.\, Aljarafesa.\\n\\nOrganismo: Consejo de Administración de la Empresa Mancomunada del Aljarafe\, S.A. (ALJARAFESA)\\n\\nVer en Contratero: https://contratero.es/contracts/PEN/21/2025
URL:https://contratero.es/contracts/PEN/21/2025
STATUS:CONFIRMED
BEGIN:VALARM
TRIGGER:-P1D
ACTION:DISPLAY
DESCRIPTION:Recordatorio: Servicio de mantenimiento y so
END:VALARM
END:VEVENT
END:VCALENDAR