BEGIN:VCALENDAR
VERSION:2.0
PRODID:-//Contratero//ES
CALSCALE:GREGORIAN
METHOD:PUBLISH
BEGIN:VEVENT
UID:PERTE.CC001@contratero.es
DTSTAMP:20260422T221237Z
DTSTART:20260129T235959
DTEND:20260130T005959
SUMMARY:Cierre: Servicio de Plataforma de Análisis de Datos para e
DESCRIPTION:Servicio de Plataforma de Análisis de Datos para el Plan de Digitalización Integral de Aigües i Sanejament d'Elx\\n\\nOrganismo: Gerencia de Aigües i Sanejament d'Elx S.A.\\n\\nVer en Contratero: https://contratero.es/contracts/PERTE.CC001
URL:https://contratero.es/contracts/PERTE.CC001
STATUS:CONFIRMED
BEGIN:VALARM
TRIGGER:-P1D
ACTION:DISPLAY
DESCRIPTION:Recordatorio: Servicio de Plataforma de Anál
END:VALARM
END:VEVENT
END:VCALENDAR