BEGIN:VCALENDAR
VERSION:2.0
PRODID:-//Contratero//ES
CALSCALE:GREGORIAN
METHOD:PUBLISH
BEGIN:VEVENT
UID:PIC2022_28900@contratero.es
DTSTAMP:20260423T222221Z
DTSTART:20220622T235959
DTEND:20220623T005959
SUMMARY:Cierre: Contratación de una solución cloud de realización 
DESCRIPTION:Contratación de una solución cloud de realización de encuestas on-line para FRATERNIDAD-MUPRESPA.\\n\\nOrganismo: Gerencia de Fraternidad Muprespa - Mútua Colaboradora con la Seguridad Social nº 275\\n\\nVer en Contratero: https://contratero.es/contracts/PIC2022_28900
URL:https://contratero.es/contracts/PIC2022_28900
STATUS:CONFIRMED
BEGIN:VALARM
TRIGGER:-P1D
ACTION:DISPLAY
DESCRIPTION:Recordatorio: Contratación de una solución c
END:VALARM
END:VEVENT
END:VCALENDAR