BEGIN:VCALENDAR
VERSION:2.0
PRODID:-//Contratero//ES
CALSCALE:GREGORIAN
METHOD:PUBLISH
BEGIN:VEVENT
UID:PIC2024_30667@contratero.es
DTSTAMP:20260422T080809Z
DTSTART:20240130T235959
DTEND:20240131T005959
SUMMARY:Cierre: Contratación del servicio del alojamiento de las i
DESCRIPTION:Contratación del servicio del alojamiento de las infraestructuras informáticas y de comunicaciones de FRATERNIDAD-MUPRESPA\\n\\nOrganismo: Gerencia de Fraternidad Muprespa - Mútua Colaboradora con la Seguridad Social nº 275\\n\\nVer en Contratero: https://contratero.es/contracts/PIC2024_30667
URL:https://contratero.es/contracts/PIC2024_30667
STATUS:CONFIRMED
BEGIN:VALARM
TRIGGER:-P1D
ACTION:DISPLAY
DESCRIPTION:Recordatorio: Contratación del servicio del 
END:VALARM
END:VEVENT
END:VCALENDAR