BEGIN:VCALENDAR
VERSION:2.0
PRODID:-//Contratero//ES
CALSCALE:GREGORIAN
METHOD:PUBLISH
BEGIN:VEVENT
UID:PIC2026_32851@contratero.es
DTSTAMP:20260423T001203Z
DTSTART:20251106T235959
DTEND:20251107T005959
SUMMARY:Cierre: Contratación de la renovación de licencias de SAP 
DESCRIPTION:Contratación de la renovación de licencias de SAP BUSINESS OBJECTS bajo las condiciones de SAP ENTERPRISE SUPPORT para Fraternidad-Muprespa.\\n\\nOrganismo: Gerencia de Fraternidad Muprespa - Mútua Colaboradora con la Seguridad Social nº 275\\n\\nVer en Contratero: https://contratero.es/contracts/PIC2026_32851
URL:https://contratero.es/contracts/PIC2026_32851
STATUS:CONFIRMED
BEGIN:VALARM
TRIGGER:-P1D
ACTION:DISPLAY
DESCRIPTION:Recordatorio: Contratación de la renovación 
END:VALARM
END:VEVENT
END:VCALENDAR