BEGIN:VCALENDAR
VERSION:2.0
PRODID:-//Contratero//ES
CALSCALE:GREGORIAN
METHOD:PUBLISH
BEGIN:VEVENT
UID:PIC2026_33070@contratero.es
DTSTAMP:20260421T084552Z
DTSTART:20260225T235959
DTEND:20260226T005959
SUMMARY:Cierre: Contratación del suministro y mantenimiento de un 
DESCRIPTION:Contratación del suministro y mantenimiento de un sistema de llamada paciente-enfermera para el HOSPITAL FRATERNIDAD-MUPRESPA HABANA.\\n\\nOrganismo: Gerencia de Fraternidad Muprespa - Mútua Colaboradora con la Seguridad Social nº 275\\n\\nVer en Contratero: https://contratero.es/contracts/PIC2026_33070
URL:https://contratero.es/contracts/PIC2026_33070
STATUS:CONFIRMED
BEGIN:VALARM
TRIGGER:-P1D
ACTION:DISPLAY
DESCRIPTION:Recordatorio: Contratación del suministro y 
END:VALARM
END:VEVENT
END:VCALENDAR