BEGIN:VCALENDAR
VERSION:2.0
PRODID:-//Contratero//ES
CALSCALE:GREGORIAN
METHOD:PUBLISH
BEGIN:VEVENT
UID:PIC2026_33251@contratero.es
DTSTAMP:20260420T140615Z
DTSTART:20260225T235959
DTEND:20260226T005959
SUMMARY:Cierre: Contratación del suministro del uso de la API de G
DESCRIPTION:Contratación del suministro del uso de la API de Google para los sistemas de información de Fraternidad-Muprespa\\n\\nOrganismo: Gerencia de Fraternidad Muprespa - Mútua Colaboradora con la Seguridad Social nº 275\\n\\nVer en Contratero: https://contratero.es/contracts/PIC2026_33251
URL:https://contratero.es/contracts/PIC2026_33251
STATUS:CONFIRMED
BEGIN:VALARM
TRIGGER:-P1D
ACTION:DISPLAY
DESCRIPTION:Recordatorio: Contratación del suministro de
END:VALARM
END:VEVENT
END:VCALENDAR