BEGIN:VCALENDAR
VERSION:2.0
PRODID:-//Contratero//ES
CALSCALE:GREGORIAN
METHOD:PUBLISH
BEGIN:VEVENT
UID:PLI-01187@contratero.es
DTSTAMP:20260423T200928Z
DTSTART:20241118T235959
DTEND:20241119T005959
SUMMARY:Cierre: Servicio SAAS para implantar una herramienta que c
DESCRIPTION:Servicio SAAS para implantar una herramienta que cubra todas las etapas del proceso de Vigilancia Tecnológica (VT) de acuerdo con las normas UNE 16.6002 y 16.6006\\n\\nOrganismo: ENUSA Industrias Avanzadas S.A.\, S.M.E.\\n\\nVer en Contratero: https://contratero.es/contracts/PLI-01187
URL:https://contratero.es/contracts/PLI-01187
STATUS:CONFIRMED
BEGIN:VALARM
TRIGGER:-P1D
ACTION:DISPLAY
DESCRIPTION:Recordatorio: Servicio SAAS para implantar u
END:VALARM
END:VEVENT
END:VCALENDAR