BEGIN:VCALENDAR
VERSION:2.0
PRODID:-//Contratero//ES
CALSCALE:GREGORIAN
METHOD:PUBLISH
BEGIN:VEVENT
UID:PLI-01320@contratero.es
DTSTAMP:20260421T003904Z
DTSTART:20250131T235959
DTEND:20250201T005959
SUMMARY:Cierre: Contratación de mantenimiento y paso a subscripció
DESCRIPTION:Contratación de mantenimiento y paso a subscripción de las licencias perpetuas propiedad de ENUSA que se muestran en la Tabla 1 del cuadro-resumen de la licitación.\\n\\nOrganismo: ENUSA Industrias Avanzadas S.A.\, S.M.E.\\n\\nVer en Contratero: https://contratero.es/contracts/PLI-01320
URL:https://contratero.es/contracts/PLI-01320
STATUS:CONFIRMED
BEGIN:VALARM
TRIGGER:-P1D
ACTION:DISPLAY
DESCRIPTION:Recordatorio: Contratación de mantenimiento 
END:VALARM
END:VEVENT
END:VCALENDAR