BEGIN:VCALENDAR
VERSION:2.0
PRODID:-//Contratero//ES
CALSCALE:GREGORIAN
METHOD:PUBLISH
BEGIN:VEVENT
UID:PLI-01973@contratero.es
DTSTAMP:20260423T133602Z
DTSTART:20251127T235959
DTEND:20251128T005959
SUMMARY:Cierre: Renovación Suscripción licencias aplicación Ordene
DESCRIPTION:Renovación Suscripción licencias aplicación Ordenes de Viaje y Partes Trabajo ZTravel.\\n\\nOrganismo: ENUSA Industrias Avanzadas S.A.\, S.M.E.\\n\\nVer en Contratero: https://contratero.es/contracts/PLI-01973
URL:https://contratero.es/contracts/PLI-01973
STATUS:CONFIRMED
BEGIN:VALARM
TRIGGER:-P1D
ACTION:DISPLAY
DESCRIPTION:Recordatorio: Renovación Suscripción licenci
END:VALARM
END:VEVENT
END:VCALENDAR