BEGIN:VCALENDAR
VERSION:2.0
PRODID:-//Contratero//ES
CALSCALE:GREGORIAN
METHOD:PUBLISH
BEGIN:VEVENT
UID:PN2020/001374@contratero.es
DTSTAMP:20260423T093634Z
DTSTART:20200714T235959
DTEND:20200715T005959
SUMMARY:Cierre: Suscripción a la Plataforma ÍCARO para el apoyo a 
DESCRIPTION:Suscripción a la Plataforma ÍCARO para el apoyo a la Gestión de Empleo de la Universidad Complutense de Madrid\\n\\nOrganismo: Rectorado de la Universidad Complutense de Madrid\\n\\nVer en Contratero: https://contratero.es/contracts/PN2020/001374
URL:https://contratero.es/contracts/PN2020/001374
STATUS:CONFIRMED
BEGIN:VALARM
TRIGGER:-P1D
ACTION:DISPLAY
DESCRIPTION:Recordatorio: Suscripción a la Plataforma ÍC
END:VALARM
END:VEVENT
END:VCALENDAR