BEGIN:VCALENDAR
VERSION:2.0
PRODID:-//Contratero//ES
CALSCALE:GREGORIAN
METHOD:PUBLISH
BEGIN:VEVENT
UID:PNSP/2021/016/GCE-AE@contratero.es
DTSTAMP:20260424T172022Z
DTSTART:20211118T235959
DTEND:20211119T005959
SUMMARY:Cierre: Servicio de Mantenimiento y Soporte de las Aplicac
DESCRIPTION:Servicio de Mantenimiento y Soporte de las Aplicaciones Informáticas Bolsa de Empleo del Hospital Universitario de Ceuta\\n\\nOrganismo: Gerencia de Atención Sanitaria del Instituto Nacional de Gestión Sanitaria en Ceuta\\n\\nVer en Contratero: https://contratero.es/contracts/PNSP/2021/016/GCE-AE
URL:https://contratero.es/contracts/PNSP/2021/016/GCE-AE
STATUS:CONFIRMED
BEGIN:VALARM
TRIGGER:-P1D
ACTION:DISPLAY
DESCRIPTION:Recordatorio: Servicio de Mantenimiento y So
END:VALARM
END:VEVENT
END:VCALENDAR