BEGIN:VCALENDAR
VERSION:2.0
PRODID:-//Contratero//ES
CALSCALE:GREGORIAN
METHOD:PUBLISH
BEGIN:VEVENT
UID:PNSP04/2019@contratero.es
DTSTAMP:20260421T174758Z
DTSTART:20190705T235959
DTEND:20190706T005959
SUMMARY:Cierre: Suscripción\, actualización y mantenimiento de un e
DESCRIPTION:Suscripción\, actualización y mantenimiento de un entorno telemático para la Oficina Municipal de Información al Consumidor de Algemesí\\n\\nOrganismo: Junta de Gobierno del Ayuntamiento de Algemesí\\n\\nVer en Contratero: https://contratero.es/contracts/PNSP04/2019
URL:https://contratero.es/contracts/PNSP04/2019
STATUS:CONFIRMED
BEGIN:VALARM
TRIGGER:-P1D
ACTION:DISPLAY
DESCRIPTION:Recordatorio: Suscripción\, actualización y m
END:VALARM
END:VEVENT
END:VCALENDAR