BEGIN:VCALENDAR
VERSION:2.0
PRODID:-//Contratero//ES
CALSCALE:GREGORIAN
METHOD:PUBLISH
BEGIN:VEVENT
UID:PNSP_SS_2022_01@contratero.es
DTSTAMP:20260424T015123Z
DTSTART:20220607T235959
DTEND:20220608T005959
SUMMARY:Cierre: Servicio de mantenimiento de la herramienta de int
DESCRIPTION:Servicio de mantenimiento de la herramienta de intercambio de informacion segura EDItran de la Agencia Tributaria Canaria.\\n\\nOrganismo: Dirección de la Agencia Tributaria Canaria\\n\\nVer en Contratero: https://contratero.es/contracts/PNSP_SS_2022_01
URL:https://contratero.es/contracts/PNSP_SS_2022_01
STATUS:CONFIRMED
BEGIN:VALARM
TRIGGER:-P1D
ACTION:DISPLAY
DESCRIPTION:Recordatorio: Servicio de mantenimiento de l
END:VALARM
END:VEVENT
END:VCALENDAR